BEGIN:VCALENDAR
VERSION:2.0
PRODID:-//ZContent.net//ZapCalLib 1.0//EN
CALSCALE:GREGORIAN
METHOD:PUBLISH
BEGIN:VEVENT
SUMMARY:Denuncia, memoria y acción colectiva | Presentación del libro "An
 timonumentos. Memoria, verdad y justicia"
DTSTART:20210423T120000
DTEND:20210423T130000
UID:2026-04-23-23-19-50-0-@calendar.boell.de
DTSTAMP:20260423T211950
DESCRIPTION:▶ Online-Veranstaltung – Mexiko-Stadt – Heinrich-Böll-St
 iftung Mexiko-Stadt - Mexiko und Karibik
END:VEVENT
END:VCALENDAR
