BEGIN:VCALENDAR
VERSION:2.0
PRODID:-//ZContent.net//ZapCalLib 1.0//EN
CALSCALE:GREGORIAN
METHOD:PUBLISH
BEGIN:VEVENT
SUMMARY:8vo Concurso Internacional de Derechos Humanos | Modalidad virtual 
 y presencial
DTSTART:20211129T080000
DTEND:20211203T180000
UID:2026-04-24-02-48-03-0-@calendar.boell.de
DTSTAMP:20260424T004803
DESCRIPTION:▶ Siehe Veranstaltungsbeschreibung – Kolumbien – 
END:VEVENT
END:VCALENDAR
