BEGIN:VCALENDAR
VERSION:2.0
PRODID:-//ZContent.net//ZapCalLib 1.0//EN
CALSCALE:GREGORIAN
METHOD:PUBLISH
BEGIN:VEVENT
SUMMARY:¿Nunca más sin nosotras? lectura feminista del proceso eleccionar
 io chileno 
DTSTART:20210531T170000
DTEND:20210531T190000
UID:2026-04-20-05-22-39-0-@calendar.boell.de
DTSTAMP:20260420T032239
DESCRIPTION:▶ Online-Veranstaltung – Heinrich-Böll-Stiftung Santiago d
 e Chile - Chile\, Peru\, Bolivien
END:VEVENT
END:VCALENDAR
