BEGIN:VCALENDAR
VERSION:2.0
PRODID:-//ZContent.net//ZapCalLib 1.0//EN
CALSCALE:GREGORIAN
METHOD:PUBLISH
BEGIN:VEVENT
SUMMARY:Geoingeniería Solar | Voces críticas de científicos, pueblos ind
 ígenas, jóvenes y activistas por el clima
DTSTART:20210609T100000
DTEND:20210609T123000
UID:2026-04-21-17-13-02-0-@calendar.boell.de
DTSTAMP:20260421T151302
DESCRIPTION:▶ Online-Veranstaltung – Heinrich-Böll-Stiftung Mexiko-Sta
 dt - Mexiko und Karibik
END:VEVENT
END:VCALENDAR
