BEGIN:VCALENDAR
VERSION:2.0
PRODID:-//ZContent.net//ZapCalLib 1.0//EN
CALSCALE:GREGORIAN
METHOD:PUBLISH
BEGIN:VEVENT
SUMMARY:Webinario “La Agroecología en Disputa” 
DTSTART:20210924T180000
DTEND:20210924T193000
UID:2026-04-23-20-59-21-0-@calendar.boell.de
DTSTAMP:20260423T185921
DESCRIPTION:▶ Online-Veranstaltung – Heinrich-Böll-Stiftung Santiago d
 e Chile - Chile\, Peru\, Bolivien
END:VEVENT
END:VCALENDAR
