BEGIN:VCALENDAR
VERSION:2.0
PRODID:-//ZContent.net//ZapCalLib 1.0//EN
CALSCALE:GREGORIAN
METHOD:PUBLISH
BEGIN:VEVENT
SUMMARY:Justicia y SoberanÃ­a Alimentaria en las AmÃ©ricas | MaÃ­z, transgÃ
 ©nicos y transnacionales | Semana del libro BÃ¶ll
DTSTART:20211107T130000
DTEND:20211107T143000
UID:2026-04-26-06-15-25-0-@calendar.boell.de
DTSTAMP:20260426T041525
DESCRIPTION:â–¶ Siehe Veranstaltungsbeschreibung â€“ Mexiko-Stadt â€“ Heinr
 ich-BÃ¶ll-Stiftung Mexiko-Stadt - Mexiko und Karibik
END:VEVENT
END:VCALENDAR
