BEGIN:VCALENDAR
VERSION:2.0
PRODID:-//ZContent.net//ZapCalLib 1.0//EN
CALSCALE:GREGORIAN
METHOD:PUBLISH
BEGIN:VEVENT
SUMMARY:Tinta para la memoria | Memoria contra el olvido | Semana del libro
  Böll
DTSTART:20211109T170000
DTEND:20211109T183000
UID:2026-04-24-02-48-04-0-@calendar.boell.de
DTSTAMP:20260424T004804
DESCRIPTION:▶ Online-Veranstaltung – Heinrich-Böll-Stiftung Mexiko-Sta
 dt - Mexiko und Karibik
END:VEVENT
END:VCALENDAR
