BEGIN:VCALENDAR
VERSION:2.0
PRODID:-//ZContent.net//ZapCalLib 1.0//EN
CALSCALE:GREGORIAN
METHOD:PUBLISH
BEGIN:VEVENT
SUMMARY:The Pandemic and Global Democracy
DTSTART:20220210T100000
DTEND:20220211T173000
UID:2026-04-21-10-09-43-0-@calendar.boell.de
DTSTAMP:20260421T080943
DESCRIPTION:▶ Online-Veranstaltung – Heinrich-Böll-Stiftung - Bundesst
 iftung Berlin
END:VEVENT
BEGIN:VEVENT
SUMMARY:The Pandemic and Global Democracy
DTSTART:20220210T100000
DTEND:20220210T123000
UID:2026-04-21-08-09-43-1-@calendar.boell.de
DTSTAMP:20260421T080943
DESCRIPTION:▶ Online-Veranstaltung – Heinrich-Böll-Stiftung - Bundesst
 iftung Berlin
END:VEVENT
BEGIN:VEVENT
SUMMARY:The Pandemic and Global Democracy
DTSTART:20220210T160000
DTEND:20220210T174500
UID:2026-04-21-08-09-43-2-@calendar.boell.de
DTSTAMP:20260421T080943
DESCRIPTION:▶ Online-Veranstaltung – Heinrich-Böll-Stiftung - Bundesst
 iftung Berlin
END:VEVENT
BEGIN:VEVENT
SUMMARY:The Pandemic and Global Democracy
DTSTART:20220211T100000
DTEND:20220211T114500
UID:2026-04-21-08-09-43-3-@calendar.boell.de
DTSTAMP:20260421T080943
DESCRIPTION:▶ Online-Veranstaltung – Heinrich-Böll-Stiftung - Bundesst
 iftung Berlin
END:VEVENT
BEGIN:VEVENT
SUMMARY:The Pandemic and Global Democracy
DTSTART:20220211T160000
DTEND:20220211T173000
UID:2026-04-21-08-09-43-4-@calendar.boell.de
DTSTAMP:20260421T080943
DESCRIPTION:▶ Online-Veranstaltung – Heinrich-Böll-Stiftung - Bundesst
 iftung Berlin
END:VEVENT
END:VCALENDAR
