BEGIN:VCALENDAR
VERSION:2.0
PRODID:-//ZContent.net//ZapCalLib 1.0//EN
CALSCALE:GREGORIAN
METHOD:PUBLISH
BEGIN:VEVENT
SUMMARY:Abril en la memoria: 30 Años | Presentación en el ITESO
DTSTART:20220422T110000
DTEND:20220422T130000
UID:2026-04-21-21-09-31-0-@calendar.boell.de
DTSTAMP:20260421T190931
DESCRIPTION:▶ Siehe Veranstaltungsbeschreibung – Heinrich-Böll-Stiftun
 g Mexiko-Stadt - Mexiko und Karibik
END:VEVENT
END:VCALENDAR
