BEGIN:VCALENDAR
VERSION:2.0
PRODID:-//ZContent.net//ZapCalLib 1.0//EN
CALSCALE:GREGORIAN
METHOD:PUBLISH
BEGIN:VEVENT
SUMMARY:Abril en la memoria: 30 años | Presentación en Casa de Fuego, Caf
 é & Cultura
DTSTART:20220423T180000
DTEND:20220423T200000
UID:2026-04-24-02-48-07-0-@calendar.boell.de
DTSTAMP:20260424T004807
DESCRIPTION:▶ Siehe Veranstaltungsbeschreibung – 
END:VEVENT
END:VCALENDAR
