BEGIN:VCALENDAR
VERSION:2.0
PRODID:-//ZContent.net//ZapCalLib 1.0//EN
CALSCALE:GREGORIAN
METHOD:PUBLISH
BEGIN:VEVENT
SUMMARY:Cinema Queer México | NICO (Eline Gehring | 75' | B)
DTSTART:20220912T190000
DTEND:20220912T210000
UID:2026-04-21-11-35-01-0-@calendar.boell.de
DTSTAMP:20260421T093501
DESCRIPTION:▶ Siehe Veranstaltungsbeschreibung – Mexiko-Stadt – 
END:VEVENT
END:VCALENDAR
