BEGIN:VCALENDAR
VERSION:2.0
PRODID:-//ZContent.net//ZapCalLib 1.0//EN
CALSCALE:GREGORIAN
METHOD:PUBLISH
BEGIN:VEVENT
SUMMARY:Antimonumentos. Memoria, Verdad y Justicia  | Primera Aniversaria d
 e la Glorieta de las Mujeres que Luchan
DTSTART:20220925T160000
DTEND:20220925T180000
UID:2026-04-25-06-19-52-0-@calendar.boell.de
DTSTAMP:20260425T041952
DESCRIPTION:▶ Siehe Veranstaltungsbeschreibung – Mexiko-Stadt – 
END:VEVENT
END:VCALENDAR
