BEGIN:VCALENDAR
VERSION:2.0
PRODID:-//ZContent.net//ZapCalLib 1.0//EN
CALSCALE:GREGORIAN
METHOD:PUBLISH
BEGIN:VEVENT
SUMMARY:El poder del activismo por los derechos humanos: la lucha compartid
 a por la integridad y la autodeterminación de los cuerpos | Una serie de 
 coloquios en línea
DTSTART:20230214T070000
DTEND:20230214T083000
UID:2026-04-26-05-21-59-0-@calendar.boell.de
DTSTAMP:20260426T032159
DESCRIPTION:▶ Online-Veranstaltung – Heinrich-Böll-Stiftung: Feminism 
 & Gender Democracy | Global Unit
END:VEVENT
END:VCALENDAR
