BEGIN:VCALENDAR
VERSION:2.0
PRODID:-//ZContent.net//ZapCalLib 1.0//EN
CALSCALE:GREGORIAN
METHOD:PUBLISH
BEGIN:VEVENT
SUMMARY:El poder de la escritura feminista: crear un lenguaje feminista y c
 on sensibilidad de género | Una serie de coloquios en línea
DTSTART:20230307T070000
DTEND:20230307T083000
UID:2026-04-25-13-26-08-0-@calendar.boell.de
DTSTAMP:20260425T112608
DESCRIPTION:▶ Online-Veranstaltung – Heinrich-Böll-Stiftung: Feminism 
 & Gender Democracy | Global Unit
END:VEVENT
END:VCALENDAR
