BEGIN:VCALENDAR
VERSION:2.0
PRODID:-//ZContent.net//ZapCalLib 1.0//EN
CALSCALE:GREGORIAN
METHOD:PUBLISH
BEGIN:VEVENT
SUMMARY:Minerales críticos para la transición energética | Conflictos y 
 alternativas hacia una transformación socioecológica
DTSTART:20230210T110000
DTEND:20230210T130000
UID:2026-04-22-03-23-23-0-@calendar.boell.de
DTSTAMP:20260422T012323
DESCRIPTION:▶ Siehe Veranstaltungsbeschreibung – Mexiko-Stadt – 
END:VEVENT
END:VCALENDAR
