BEGIN:VCALENDAR
VERSION:2.0
PRODID:-//ZContent.net//ZapCalLib 1.0//EN
CALSCALE:GREGORIAN
METHOD:PUBLISH
BEGIN:VEVENT
SUMMARY:Poderes fácticos | Captura del Estado, redes criminales y violenci
 a en América Latina
DTSTART:20230316T170000
DTEND:20230316T190000
UID:2026-04-21-12-45-34-0-@calendar.boell.de
DTSTAMP:20260421T104534
DESCRIPTION:▶ Siehe Veranstaltungsbeschreibung – Mexiko-Stadt – 
END:VEVENT
END:VCALENDAR
