BEGIN:VCALENDAR
VERSION:2.0
PRODID:-//ZContent.net//ZapCalLib 1.0//EN
CALSCALE:GREGORIAN
METHOD:PUBLISH
BEGIN:VEVENT
SUMMARY:¡Suficiente! Frenemos la impunidad corporativa 
DTSTART:20230329T080045
DTEND:20230329T173000
UID:2026-04-26-05-22-00-0-@calendar.boell.de
DTSTAMP:20260426T032200
DESCRIPTION:▶ Siehe Veranstaltungsbeschreibung – Bogotá – 
END:VEVENT
END:VCALENDAR
