BEGIN:VCALENDAR
VERSION:2.0
PRODID:-//ZContent.net//ZapCalLib 1.0//EN
CALSCALE:GREGORIAN
METHOD:PUBLISH
BEGIN:VEVENT
SUMMARY:Guatemala: Wahlen ohne Wahl | Regiert der "Pakt der Korrupten" weit
 er?
DTSTART:20230525T183000
DTEND:20230525T201500
UID:2026-04-23-22-10-03-0-@calendar.boell.de
DTSTAMP:20260423T201003
DESCRIPTION:▶ Online-Veranstaltung – Heinrich-Böll-Stiftung - Bundesst
 iftung Berlin
END:VEVENT
END:VCALENDAR
