BEGIN:VCALENDAR
VERSION:2.0
PRODID:-//ZContent.net//ZapCalLib 1.0//EN
CALSCALE:GREGORIAN
METHOD:PUBLISH
BEGIN:VEVENT
SUMMARY:Elecciones y transición energética justa en el Cesar: una apuesta
  desde las alternativas
DTSTART:20230714T080000
DTEND:20230714T133000
UID:2026-04-21-13-10-18-0-@calendar.boell.de
DTSTAMP:20260421T111018
DESCRIPTION:▶ Siehe Veranstaltungsbeschreibung – 
END:VEVENT
END:VCALENDAR
