BEGIN:VCALENDAR
VERSION:2.0
PRODID:-//ZContent.net//ZapCalLib 1.0//EN
CALSCALE:GREGORIAN
METHOD:PUBLISH
BEGIN:VEVENT
SUMMARY:Tierras, conflictos ambientales y lucha contra la impunidad de pode
 res fácticos | Evento presencial
DTSTART:20230810T160000
DTEND:20230810T180000
UID:2026-04-20-10-32-35-0-@calendar.boell.de
DTSTAMP:20260420T083235
DESCRIPTION:▶ Siehe Veranstaltungsbeschreibung – Bogotá – 
END:VEVENT
END:VCALENDAR
