BEGIN:VCALENDAR
VERSION:2.0
PRODID:-//ZContent.net//ZapCalLib 1.0//EN
CALSCALE:GREGORIAN
METHOD:PUBLISH
BEGIN:VEVENT
SUMMARY:Encuentro de memorias en resistencia | La memoria de abajo, la memo
 ria que resiste
DTSTART:20230830T160000
DTEND:20230830T193000
UID:2026-04-21-12-12-30-0-@calendar.boell.de
DTSTAMP:20260421T101230
DESCRIPTION:▶ Siehe Veranstaltungsbeschreibung – Mexiko-Stadt – Heinr
 ich-Böll-Stiftung Mexiko-Stadt - Mexiko und Karibik
END:VEVENT
END:VCALENDAR
