BEGIN:VCALENDAR
VERSION:2.0
PRODID:-//ZContent.net//ZapCalLib 1.0//EN
CALSCALE:GREGORIAN
METHOD:PUBLISH
BEGIN:VEVENT
SUMMARY:El caso Padilla. Autoritarismo, ideología y libertad | Función co
 n conversatorio
DTSTART:20230831T180000
DTEND:20230831T200000
UID:2026-04-23-05-02-41-0-@calendar.boell.de
DTSTAMP:20260423T030241
DESCRIPTION:▶ Siehe Veranstaltungsbeschreibung – Mexiko-Stadt – Heinr
 ich-Böll-Stiftung Mexiko-Stadt - Mexiko und Karibik
END:VEVENT
END:VCALENDAR
