BEGIN:VCALENDAR
VERSION:2.0
PRODID:-//ZContent.net//ZapCalLib 1.0//EN
CALSCALE:GREGORIAN
METHOD:PUBLISH
BEGIN:VEVENT
SUMMARY:CLARO DE LUNA: TALLER DE ESCRITURA AUTOBIOGRÁFICA DE MUJERES Y FAN
 ZINE.  | FERIA DEL LIBRO: ARTE Y LITERATURA. MUSEO MARTE, SAN SALVADOR.
DTSTART:20231007T170000
DTEND:20231007T200000
UID:2026-04-22-16-44-33-0-@calendar.boell.de
DTSTAMP:20260422T144433
DESCRIPTION:▶ Siehe Veranstaltungsbeschreibung – San Salvador – Heinr
 ich-Böll-Stiftung Centroamérica
END:VEVENT
END:VCALENDAR
