BEGIN:VCALENDAR
VERSION:2.0
PRODID:-//ZContent.net//ZapCalLib 1.0//EN
CALSCALE:GREGORIAN
METHOD:PUBLISH
BEGIN:VEVENT
SUMMARY:Cartografías de la memoria en contra de la impunidad | Conversator
 io 
DTSTART:20231201T150000
DTEND:20231201T170000
UID:2026-04-21-15-23-07-0-@calendar.boell.de
DTSTAMP:20260421T132307
DESCRIPTION:Cali – 
END:VEVENT
END:VCALENDAR
