BEGIN:VCALENDAR
VERSION:2.0
PRODID:-//ZContent.net//ZapCalLib 1.0//EN
CALSCALE:GREGORIAN
METHOD:PUBLISH
BEGIN:VEVENT
SUMMARY:Redes de macrocriminalidad, desapariciÃ³n de personas y construcciÃ
 ³n de paz | En la FIL Guadalajara
DTSTART:20241207T160000
DTEND:20241207T165000
UID:2026-04-25-19-56-28-0-@calendar.boell.de
DTSTAMP:20260425T175628
DESCRIPTION:â–¶ Siehe Veranstaltungsbeschreibung â€“ Heinrich-BÃ¶ll-Stiftun
 g Mexiko-Stadt - Mexiko und Karibik
END:VEVENT
END:VCALENDAR
