BEGIN:VCALENDAR
VERSION:2.0
PRODID:-//ZContent.net//ZapCalLib 1.0//EN
CALSCALE:GREGORIAN
METHOD:PUBLISH
BEGIN:VEVENT
SUMMARY:Hacer teatro para vencer a XibalbĂˇ | Una propuesta para la sanaciĂ
 łn y la justicia de mujeres en Guatemala
DTSTART:20250321T100000
DTEND:20250321T113000
UID:2026-04-23-17-55-04-0-@calendar.boell.de
DTSTAMP:20260423T155504
DESCRIPTION:â–¶ Online-Veranstaltung â€“ Heinrich-BĂ¶ll-Stiftung Mexiko-Sta
 dt - Mexiko und Karibik
END:VEVENT
END:VCALENDAR
