BEGIN:VCALENDAR
VERSION:2.0
PRODID:-//ZContent.net//ZapCalLib 1.0//EN
CALSCALE:GREGORIAN
METHOD:PUBLISH
BEGIN:VEVENT
SUMMARY:Voces en resistencia | Impactos de la violencia en la vida de las p
 eriodistas
DTSTART:20250423T110000
DTEND:20250423T130000
UID:2026-04-25-01-51-26-0-@calendar.boell.de
DTSTAMP:20260424T235126
DESCRIPTION:▶ Siehe Veranstaltungsbeschreibung – Mexiko-Stadt – Heinr
 ich-Böll-Stiftung Mexiko-Stadt - Mexiko und Karibik
END:VEVENT
END:VCALENDAR
