BEGIN:VCALENDAR
VERSION:2.0
PRODID:-//ZContent.net//ZapCalLib 1.0//EN
CALSCALE:GREGORIAN
METHOD:PUBLISH
BEGIN:VEVENT
SUMMARY:Ríos y montañas en riesgo | Una mirada crítica a la extracción 
 de materiales pétreos en México
DTSTART:20250513T160000
DTEND:20250513T180000
UID:2026-04-22-06-26-11-0-@calendar.boell.de
DTSTAMP:20260422T042611
DESCRIPTION:▶ Siehe Veranstaltungsbeschreibung – Mexiko-Stadt – Heinr
 ich-Böll-Stiftung Mexiko-Stadt - Mexiko und Karibik
END:VEVENT
END:VCALENDAR
