BEGIN:VCALENDAR
VERSION:2.0
PRODID:-//ZContent.net//ZapCalLib 1.0//EN
CALSCALE:GREGORIAN
METHOD:PUBLISH
BEGIN:VEVENT
SUMMARY:Sororidad y resistencia | Gira de documentales Ambulante Yucatán
DTSTART:20250610T170000
DTEND:20250610T193000
UID:2026-04-24-09-05-11-0-@calendar.boell.de
DTSTAMP:20260424T070511
DESCRIPTION:▶ Siehe Veranstaltungsbeschreibung – Heinrich-Böll-Stiftun
 g Mexiko-Stadt - Mexiko und Karibik
END:VEVENT
END:VCALENDAR
