BEGIN:VCALENDAR
VERSION:2.0
PRODID:-//ZContent.net//ZapCalLib 1.0//EN
CALSCALE:GREGORIAN
METHOD:PUBLISH
BEGIN:VEVENT
SUMMARY:Hormigas entre gigantes | Presentaciones en la UACM San Lorenzo
DTSTART:20250828T130000
DTEND:20250828T140000
UID:2026-04-21-18-29-16-0-@calendar.boell.de
DTSTAMP:20260421T162916
DESCRIPTION:▶ Siehe Veranstaltungsbeschreibung – Mexiko-Stadt – Heinr
 ich-Böll-Stiftung Mexiko-Stadt - Mexiko und Karibik
END:VEVENT
END:VCALENDAR
