BEGIN:VCALENDAR
VERSION:2.0
PRODID:-//ZContent.net//ZapCalLib 1.0//EN
CALSCALE:GREGORIAN
METHOD:PUBLISH
BEGIN:VEVENT
SUMMARY:Diálogos Transfronterizos: Migraciones y Migrantes de América Lat
 ina y el Caribe 
DTSTART:20251127T090000
DTEND:20251127T143000
UID:2026-04-24-20-55-16-0-@calendar.boell.de
DTSTAMP:20260424T185516
DESCRIPTION:▶ Siehe Veranstaltungsbeschreibung – Santiago de Chile – 
 Heinrich-Böll-Stiftung Santiago de Chile - Chile\, Peru\, Bolivien
END:VEVENT
END:VCALENDAR
