BEGIN:VCALENDAR
VERSION:2.0
PRODID:-//ZContent.net//ZapCalLib 1.0//EN
CALSCALE:GREGORIAN
METHOD:PUBLISH
BEGIN:VEVENT
SUMMARY:FIL Guadalajara: Conversación con Carla Flores Lot | autora del li
 bro Ríos y montañas en riesgo
DTSTART:20251205T170000
DTEND:20251205T180000
UID:2026-04-21-14-22-19-0-@calendar.boell.de
DTSTAMP:20260421T122219
DESCRIPTION:▶ Siehe Veranstaltungsbeschreibung – Heinrich-Böll-Stiftun
 g Mexiko-Stadt - Mexiko und Karibik
END:VEVENT
END:VCALENDAR
