BEGIN:VCALENDAR
VERSION:2.0
PRODID:-//ZContent.net//ZapCalLib 1.0//EN
CALSCALE:GREGORIAN
METHOD:PUBLISH
BEGIN:VEVENT
SUMMARY:Sabbar Artistiques Féminins de Dakar | Panel : Luttes féministes,
  espaces publiques et religieux
DTSTART:20190322T100000
DTEND:20190322T123000
UID:2026-04-24-11-18-18-0-@calendar.boell.de
DTSTAMP:20260424T091818
DESCRIPTION:
END:VEVENT
END:VCALENDAR
