BEGIN:VCALENDAR
VERSION:2.0
PRODID:-//ZContent.net//ZapCalLib 1.0//EN
CALSCALE:GREGORIAN
METHOD:PUBLISH
BEGIN:VEVENT
SUMMARY:Green Lecture #3 |  Entre aspirations et réalités : la transition
  tunisienne dans un contexte de changement de l'ordre mondial
DTSTART:20190319T180000
DTEND:20190319T210000
UID:2026-04-22-12-22-18-0-@calendar.boell.de
DTSTAMP:20260422T102218
DESCRIPTION:Tunis – Heinrich-Böll-Stiftung Tunesien - Tunis
END:VEVENT
END:VCALENDAR
