BEGIN:VCALENDAR
VERSION:2.0
PRODID:-//ZContent.net//ZapCalLib 1.0//EN
CALSCALE:GREGORIAN
METHOD:PUBLISH
BEGIN:VEVENT
SUMMARY:Lancement des "Invités du mercredi" | @ La Maison de la Douane 
DTSTART:20190417T183000
DTEND:20190417T213013
UID:2026-04-24-06-59-35-0-@calendar.boell.de
DTSTAMP:20260424T045935
DESCRIPTION:Dakar – 
END:VEVENT
END:VCALENDAR
