BEGIN:VCALENDAR
VERSION:2.0
PRODID:-//ZContent.net//ZapCalLib 1.0//EN
CALSCALE:GREGORIAN
METHOD:PUBLISH
BEGIN:VEVENT
SUMMARY:"Invités du mercredi" | Communication et développement durable
DTSTART:20190424T150000
DTEND:20190424T173000
UID:2026-04-23-14-11-25-0-@calendar.boell.de
DTSTAMP:20260423T121125
DESCRIPTION:
END:VEVENT
END:VCALENDAR
