BEGIN:VCALENDAR
VERSION:2.0
PRODID:-//ZContent.net//ZapCalLib 1.0//EN
CALSCALE:GREGORIAN
METHOD:PUBLISH
BEGIN:VEVENT
SUMMARY:BRUNO MANSER â€“ LA VOIX DE LA FORÃŠT TROPICALE | Festival Univerci
 nÃ© Allemand â€“  Nantes, du 5 au 11 novembre 2019
DTSTART:20191107T204505
DTEND:20191107T220000
UID:2026-04-21-19-14-42-0-@calendar.boell.de
DTSTAMP:20260421T171442
DESCRIPTION:â–¶ Siehe Veranstaltungsbeschreibung â€“ Nantes â€“ Heinrich-BÃ
 ¶ll-Stiftung Paris - Frankreich | Italien
END:VEVENT
END:VCALENDAR
