BEGIN:VCALENDAR
VERSION:2.0
PRODID:-//ZContent.net//ZapCalLib 1.0//EN
CALSCALE:GREGORIAN
METHOD:PUBLISH
BEGIN:VEVENT
SUMMARY:UN, DEUX, TROIS  | Festival UnivercinÃ© Allemand â€“ Nantes, du 5 a
 u 11 novembre 2019
DTSTART:20191107T134500
DTEND:20191107T150000
UID:2026-04-20-22-57-24-0-@calendar.boell.de
DTSTAMP:20260420T205724
DESCRIPTION:â–¶ Siehe Veranstaltungsbeschreibung â€“ Nantes â€“ Heinrich-BÃ
 ¶ll-Stiftung Paris - Frankreich | Italien
END:VEVENT
END:VCALENDAR
