BEGIN:VCALENDAR
VERSION:2.0
PRODID:-//ZContent.net//ZapCalLib 1.0//EN
CALSCALE:GREGORIAN
METHOD:PUBLISH
BEGIN:VEVENT
SUMMARY:Guyane : un or qui mine le climat ?
DTSTART:20200701T190000
DTEND:20200701T203000
UID:2026-04-20-03-21-33-0-@calendar.boell.de
DTSTAMP:20260420T012133
DESCRIPTION:▶ Online-Veranstaltung – Heinrich-Böll-Stiftung Paris - Fr
 ankreich | Italien
END:VEVENT
END:VCALENDAR
