BEGIN:VCALENDAR
VERSION:2.0
PRODID:-//ZContent.net//ZapCalLib 1.0//EN
CALSCALE:GREGORIAN
METHOD:PUBLISH
BEGIN:VEVENT
SUMMARY:Webinaire: Comment créer une dynamique commune franco-allemande su
 r une politique de désarmement nucléaire ? 
DTSTART:20210322T140000
DTEND:20210322T161500
UID:2026-04-25-13-07-03-0-@calendar.boell.de
DTSTAMP:20260425T110703
DESCRIPTION:▶ Online-Veranstaltung – Heinrich-Böll-Stiftung Paris - Fr
 ankreich | Italien
END:VEVENT
END:VCALENDAR
