BEGIN:VCALENDAR
VERSION:2.0
PRODID:-//ZContent.net//ZapCalLib 1.0//EN
CALSCALE:GREGORIAN
METHOD:PUBLISH
BEGIN:VEVENT
SUMMARY:Vernissage "Géantes Invisibles" à la Biennale de Dakar 2022 | Exp
 o multi Art 
DTSTART:20220525T140000
DTEND:20220624T200000
UID:2026-04-22-21-34-55-0-@calendar.boell.de
DTSTAMP:20260422T193455
DESCRIPTION:▶ Siehe Veranstaltungsbeschreibung – Dakar – Heinrich-Bö
 ll-Stiftung Dakar - Sénégal
END:VEVENT
END:VCALENDAR
