BEGIN:VCALENDAR
VERSION:2.0
PRODID:-//ZContent.net//ZapCalLib 1.0//EN
CALSCALE:GREGORIAN
METHOD:PUBLISH
BEGIN:VEVENT
SUMMARY:Peut-on rire du tout plastique ? 
DTSTART:20220628T183000
DTEND:20220628T220000
UID:2026-04-22-03-01-34-0-@calendar.boell.de
DTSTAMP:20260422T010134
DESCRIPTION:▶ Siehe Veranstaltungsbeschreibung – Paris – Externe Vera
 nstaltung
END:VEVENT
END:VCALENDAR
