BEGIN:VCALENDAR
VERSION:2.0
PRODID:-//ZContent.net//ZapCalLib 1.0//EN
CALSCALE:GREGORIAN
METHOD:PUBLISH
BEGIN:VEVENT
SUMMARY:Journées d'été des écologistes  | Ateliers de la Fondation Hein
 rich Böll
DTSTART:20220825T090000
DTEND:20220827T200000
UID:2026-04-22-06-59-01-0-@calendar.boell.de
DTSTAMP:20260422T045901
DESCRIPTION:▶ Siehe Veranstaltungsbeschreibung – Externe Veranstaltung
END:VEVENT
END:VCALENDAR
