BEGIN:VCALENDAR
VERSION:2.0
PRODID:-//ZContent.net//ZapCalLib 1.0//EN
CALSCALE:GREGORIAN
METHOD:PUBLISH
BEGIN:VEVENT
SUMMARY:Femmes et lutte contre les changements climatiques en Europe et dan
 s le monde
DTSTART:20220917T180000
DTEND:20220917T200000
UID:2026-04-19-14-38-43-0-@calendar.boell.de
DTSTAMP:20260419T123843
DESCRIPTION:Paris – Heinrich-Böll-Stiftung Paris - Frankreich | Italien
END:VEVENT
END:VCALENDAR
