BEGIN:VCALENDAR
VERSION:2.0
PRODID:-//ZContent.net//ZapCalLib 1.0//EN
CALSCALE:GREGORIAN
METHOD:PUBLISH
BEGIN:VEVENT
SUMMARY:Heinrich Böll vu par Jean-Marie Straub et Danièle Huillet | Proje
 ctions de deux courts métrages de Jean-Marie Straub et Danièle Huillet
DTSTART:20230117T200000
DTEND:20230117T220000
UID:2026-04-22-03-23-19-0-@calendar.boell.de
DTSTAMP:20260422T012319
DESCRIPTION:▶ Siehe Veranstaltungsbeschreibung – Paris – Heinrich-Bö
 ll-Stiftung Paris - Frankreich | Italien
END:VEVENT
END:VCALENDAR
