BEGIN:VCALENDAR
VERSION:2.0
PRODID:-//ZContent.net//ZapCalLib 1.0//EN
CALSCALE:GREGORIAN
METHOD:PUBLISH
BEGIN:VEVENT
SUMMARY:Forum sur la Démocratie au Sénégal
DTSTART:20231129T090000
DTEND:20231129T153000
UID:2026-04-25-00-01-11-0-@calendar.boell.de
DTSTAMP:20260424T220111
DESCRIPTION:▶ Siehe Veranstaltungsbeschreibung – 
END:VEVENT
END:VCALENDAR
