BEGIN:VCALENDAR
VERSION:2.0
PRODID:-//ZContent.net//ZapCalLib 1.0//EN
CALSCALE:GREGORIAN
METHOD:PUBLISH
BEGIN:VEVENT
SUMMARY:Böll TALKS _ Webinaire : la COP28 fera-t-elle la différence ? 
DTSTART:20240122T180745
DTEND:20240122T190745
UID:2026-04-22-03-02-04-0-@calendar.boell.de
DTSTAMP:20260422T010204
DESCRIPTION:▶ Siehe Veranstaltungsbeschreibung – Dakar – Heinrich-Bö
 ll-Stiftung Dakar - Sénégal
END:VEVENT
END:VCALENDAR
