BEGIN:VCALENDAR
VERSION:2.0
PRODID:-//ZContent.net//ZapCalLib 1.0//EN
CALSCALE:GREGORIAN
METHOD:PUBLISH
BEGIN:VEVENT
SUMMARY:Les rencontres des pensées de l'écologie
DTSTART:20240321T200000
DTEND:20240324T130042
UID:2026-04-22-03-23-20-0-@calendar.boell.de
DTSTAMP:20260422T012320
DESCRIPTION:▶ Siehe Veranstaltungsbeschreibung – Frankreich – 
END:VEVENT
END:VCALENDAR
