BEGIN:VCALENDAR
VERSION:2.0
PRODID:-//ZContent.net//ZapCalLib 1.0//EN
CALSCALE:GREGORIAN
METHOD:PUBLISH
BEGIN:VEVENT
SUMMARY:Böll TALKS : Où sont passées les femmes ? | Parlons de la sous r
 eprésentation des femmes dans le gouvernement du Sénégal
DTSTART:20240425T153003
DTEND:20240425T170003
UID:2026-04-22-04-06-35-0-@calendar.boell.de
DTSTAMP:20260422T020635
DESCRIPTION:▶ Siehe Veranstaltungsbeschreibung – 
END:VEVENT
END:VCALENDAR
