BEGIN:VCALENDAR
VERSION:2.0
PRODID:-//ZContent.net//ZapCalLib 1.0//EN
CALSCALE:GREGORIAN
METHOD:PUBLISH
BEGIN:VEVENT
SUMMARY:Webinar: Foreign Climate Policy | Fostering the Energy Transition a
 nd Combatting Climate Change Worldwide
DTSTART:20240506T123000
DTEND:20240506T140000
UID:2026-04-24-02-47-53-0-@calendar.boell.de
DTSTAMP:20260424T004753
DESCRIPTION:▶ Online-Veranstaltung – 
END:VEVENT
END:VCALENDAR
